BEGIN:VCALENDAR
VERSION:2.0
PRODID:-// eRoom plugin //NONSGML v1.0//EN
CALSCALE:GREGORIAN
BEGIN:VEVENT
UID:eRoom-1776932160
SUMMARY:Wednesday night WebCamp with Coach Janae
LOCATION:Zoom
DESCRIPTION:Wednesday night WebCamp with Coach Janae is inviting you to a s
 cheduled Zoom meeting.\n\nJoin Zoom Meeting\nhttps://us06web.zoom.us/j/816
 84974424\n\nMeeting ID: 81684974424\n
URL;VALUE=URI:https://us06web.zoom.us/j/81684974424
DTSTART:20241023T233000Z
DTEND:20241024T003000Z
DTSTAMP:20260423T081600Z
BEGIN:VALARM
ACTION:DISPLAY
DESCRIPTION:Reminder
TRIGGER;RELATED=START:-PT15M
END:VALARM
END:VEVENT
END:VCALENDAR