BEGIN:VCALENDAR
VERSION:2.0
PRODID:-// eRoom plugin //NONSGML v1.0//EN
CALSCALE:GREGORIAN
BEGIN:VEVENT
UID:eRoom-1776678874
SUMMARY:Wednesday Night Webcamp with Coach Janae!
LOCATION:Zoom
DESCRIPTION:Wednesday Night Webcamp with Coach Janae! is inviting you to a 
 scheduled Zoom meeting.\n\nJoin Zoom Meeting\nhttps://us06web.zoom.us/j/85
 952290781\n\nMeeting ID: 85952290781\n
URL;VALUE=URI:https://us06web.zoom.us/j/85952290781
DTSTART:20250625T233000Z
DTEND:20250626T003000Z
DTSTAMP:20260420T095434Z
BEGIN:VALARM
ACTION:DISPLAY
DESCRIPTION:Reminder
TRIGGER;RELATED=START:-PT15M
END:VALARM
END:VEVENT
END:VCALENDAR