BEGIN:VCALENDAR
VERSION:2.0
PRODID:-// eRoom plugin //NONSGML v1.0//EN
CALSCALE:GREGORIAN
BEGIN:VEVENT
UID:eRoom-1776931970
SUMMARY:Wednesday Night WebCamp with Coach Janae
LOCATION:Zoom
DESCRIPTION:Wednesday Night WebCamp with Coach Janae is inviting you to a s
 cheduled Zoom meeting.\n\nJoin Zoom Meeting\nhttps://us06web.zoom.us/j/878
 48548816\n\nMeeting ID: 87848548816\n
URL;VALUE=URI:https://us06web.zoom.us/j/87848548816
DTSTART:20250213T003000Z
DTEND:20250213T013000Z
DTSTAMP:20260423T081250Z
BEGIN:VALARM
ACTION:DISPLAY
DESCRIPTION:Reminder
TRIGGER;RELATED=START:-PT15M
END:VALARM
END:VEVENT
END:VCALENDAR