BEGIN:VCALENDAR
VERSION:2.0
PRODID:-// eRoom plugin //NONSGML v1.0//EN
CALSCALE:GREGORIAN
BEGIN:VEVENT
UID:eRoom-1776673883
SUMMARY:New Year No Fear Week Two with Coach Janae
LOCATION:Zoom
DESCRIPTION:New Year No Fear Week Two with Coach Janae is inviting you to a
  scheduled Zoom meeting.\n\nJoin Zoom Meeting\nhttps://us06web.zoom.us/j/8
 5884765270\n\nMeeting ID: 85884765270\n
URL;VALUE=URI:https://us06web.zoom.us/j/85884765270
DTSTART:20230119T003000Z
DTEND:20230119T013000Z
DTSTAMP:20260420T083123Z
BEGIN:VALARM
ACTION:DISPLAY
DESCRIPTION:Reminder
TRIGGER;RELATED=START:-PT15M
END:VALARM
END:VEVENT
END:VCALENDAR