BEGIN:VCALENDAR
VERSION:2.0
PRODID:-// eRoom plugin //NONSGML v1.0//EN
CALSCALE:GREGORIAN
BEGIN:VEVENT
UID:eRoom-1776932645
SUMMARY:Justin and Ali
LOCATION:Zoom
DESCRIPTION:Justin and Ali is inviting you to a scheduled Zoom meeting.\n\n
 Join Zoom Meeting\nhttps://us06web.zoom.us/j/83519752552\n\nMeeting ID: 83
 519752552\n
URL;VALUE=URI:https://us06web.zoom.us/j/83519752552
DTSTART:20220419T210000Z
DTEND:20220419T220000Z
DTSTAMP:20260423T082405Z
BEGIN:VALARM
ACTION:DISPLAY
DESCRIPTION:Reminder
TRIGGER;RELATED=START:-PT15M
END:VALARM
END:VEVENT
END:VCALENDAR