BEGIN:VCALENDAR
VERSION:2.0
PRODID:-// eRoom plugin //NONSGML v1.0//EN
CALSCALE:GREGORIAN
BEGIN:VEVENT
UID:eRoom-1776673630
SUMMARY:HeadGames with Coach Jen
LOCATION:Zoom
DESCRIPTION:HeadGames with Coach Jen is inviting you to a scheduled Zoom me
 eting.\n\nJoin Zoom Meeting\nhttps://us06web.zoom.us/j/87143161053\n\nMeet
 ing ID: 87143161053\n
URL;VALUE=URI:https://us06web.zoom.us/j/87143161053
DTSTART:20240308T013000Z
DTEND:20240308T023000Z
DTSTAMP:20260420T082710Z
BEGIN:VALARM
ACTION:DISPLAY
DESCRIPTION:Reminder
TRIGGER;RELATED=START:-PT15M
END:VALARM
END:VEVENT
END:VCALENDAR