BEGIN:VCALENDAR
VERSION:2.0
PRODID:-// eRoom plugin //NONSGML v1.0//EN
CALSCALE:GREGORIAN
BEGIN:VEVENT
UID:eRoom-1776847500
SUMMARY:HeadGames WebCamp with Coach Jen
LOCATION:Zoom
DESCRIPTION:HeadGames WebCamp with Coach Jen is inviting you to a scheduled
  Zoom meeting.\n\nJoin Zoom Meeting\nhttps://us06web.zoom.us/j/86924754285
 \n\nMeeting ID: 86924754285\n
URL;VALUE=URI:https://us06web.zoom.us/j/86924754285
DTSTART:20220708T003000Z
DTEND:20220708T013000Z
DTSTAMP:20260422T084500Z
BEGIN:VALARM
ACTION:DISPLAY
DESCRIPTION:Reminder
TRIGGER;RELATED=START:-PT15M
END:VALARM
END:VEVENT
END:VCALENDAR