BEGIN:VCALENDAR
VERSION:2.0
PRODID:-// eRoom plugin //NONSGML v1.0//EN
CALSCALE:GREGORIAN
BEGIN:VEVENT
UID:eRoom-1776673713
SUMMARY:HeadGames WebCamp with Coach Jen
LOCATION:Zoom
DESCRIPTION:HeadGames WebCamp with Coach Jen is inviting you to a scheduled
  Zoom meeting.\n\nJoin Zoom Meeting\nhttps://us06web.zoom.us/j/85402036936
 \n\nMeeting ID: 85402036936\n
URL;VALUE=URI:https://us06web.zoom.us/j/85402036936
DTSTART:20220304T013000Z
DTEND:20220304T023000Z
DTSTAMP:20260420T082833Z
BEGIN:VALARM
ACTION:DISPLAY
DESCRIPTION:Reminder
TRIGGER;RELATED=START:-PT15M
END:VALARM
END:VEVENT
END:VCALENDAR