BEGIN:VCALENDAR
VERSION:2.0
PRODID:-// eRoom plugin //NONSGML v1.0//EN
CALSCALE:GREGORIAN
BEGIN:VEVENT
UID:eRoom-1776679210
SUMMARY:HeadGames WebCamp with Coach Janae
LOCATION:Zoom
DESCRIPTION:HeadGames WebCamp with Coach Janae is inviting you to a schedul
 ed Zoom meeting.\n\nJoin Zoom Meeting\nhttps://zoom.us/j/95334315990\n\nMe
 eting ID: 95334315990\n
URL;VALUE=URI:https://zoom.us/j/95334315990
DTSTART:20210331T233000Z
DTEND:20210401T003000Z
DTSTAMP:20260420T100010Z
BEGIN:VALARM
ACTION:DISPLAY
DESCRIPTION:Reminder
TRIGGER;RELATED=START:-PT15M
END:VALARM
END:VEVENT
END:VCALENDAR