BEGIN:VCALENDAR
VERSION:2.0
PRODID:-// eRoom plugin //NONSGML v1.0//EN
CALSCALE:GREGORIAN
BEGIN:VEVENT
UID:eRoom-1776673446
SUMMARY:FEARBUSTERS! WEEK FOUR
LOCATION:Zoom
DESCRIPTION:FEARBUSTERS! WEEK FOUR is inviting you to a scheduled Zoom meet
 ing.\n\nJoin Zoom Meeting\nhttps://zoom.us/j/94746857550\n\nMeeting ID: 94
 746857550\n
URL;VALUE=URI:https://zoom.us/j/94746857550
DTSTART:20210630T233000Z
DTEND:20210701T003000Z
DTSTAMP:20260420T082406Z
BEGIN:VALARM
ACTION:DISPLAY
DESCRIPTION:Reminder
TRIGGER;RELATED=START:-PT15M
END:VALARM
END:VEVENT
END:VCALENDAR