BEGIN:VCALENDAR
VERSION:2.0
PRODID:-// eRoom plugin //NONSGML v1.0//EN
CALSCALE:GREGORIAN
BEGIN:VEVENT
UID:eRoom-1776605473
SUMMARY:Be Your Own Hero Camp Week Four
LOCATION:Zoom
DESCRIPTION:Be Your Own Hero Camp Week Four is inviting you to a scheduled 
 Zoom meeting.\n\nJoin Zoom Meeting\nhttps://zoom.us/j/95219087344\n\nMeeti
 ng ID: 95219087344\n
URL;VALUE=URI:https://zoom.us/j/95219087344
DTSTART:20200805T233000Z
DTEND:20200806T003000Z
DTSTAMP:20260419T133113Z
BEGIN:VALARM
ACTION:DISPLAY
DESCRIPTION:Reminder
TRIGGER;RELATED=START:-PT15M
END:VALARM
END:VEVENT
END:VCALENDAR